BEGIN:VCALENDAR
VERSION:2.0
CALSCALE:GREGORIAN
BEGIN:VEVENT
DTSTAMP:20260420T113852
DTSTART:20260712T103000
DTEND:20260712T113000
SUMMARY:WOO GIRL ! Cellars Namaste + Ros
DESCRIPTION:Event Info: https://www.localwineevents.com/view/event/woo-girl-cellars-namaste-ros/999083
LOCATION:WOO GIRL! Cellars -- 11070 E Woodbridge Rd Acampo, CA 95220
STATUS:CONFIRMED
SEQUENCE:0
TRANSP:OPAQUE
END:VEVENT
END:VCALENDAR
