BEGIN:VCALENDAR
VERSION:2.0
CALSCALE:GREGORIAN
BEGIN:VEVENT
DTSTAMP:20260420T114741
DTSTART:20260629T173000
DTEND:20260629T183000
SUMMARY:WOO GIRL! Mokelumne Strawberry Moon Soundbath
DESCRIPTION:Event Info: https://www.localwineevents.com/view/event/woo-girl-mokelumne-strawberry-moon-soundbath/999082
LOCATION:WOO GIRL! Cellars -- 11070 E Woodbridge Rd Acampo, CA 95220
STATUS:CONFIRMED
SEQUENCE:0
TRANSP:OPAQUE
END:VEVENT
END:VCALENDAR
