BEGIN:VCALENDAR
VERSION:2.0
CALSCALE:GREGORIAN
BEGIN:VEVENT
DTSTAMP:20260424T062043
DTSTART:20260423T100000
DTEND:20260423T110000
SUMMARY:Corporate/Private Latte Art Class
DESCRIPTION:Event Info: https://www.localwineevents.com/view/event/corporateprivate-latte-art-class/999062
LOCATION:Jiaren Cafe -- 1171 Homestead Road Santa Clara, CA 95050
STATUS:CONFIRMED
SEQUENCE:0
TRANSP:OPAQUE
END:VEVENT
END:VCALENDAR
