BEGIN:VCALENDAR
VERSION:2.0
CALSCALE:GREGORIAN
BEGIN:VEVENT
DTSTAMP:20260420T144758
DTSTART:20260423T183000
DTEND:20260423T203000
SUMMARY:In-Person Class: Fresh Cavatelli Pasta (Sacramento)
DESCRIPTION:Event Info: https://www.localwineevents.com/view/event/in-person-class-fresh-cavatelli-pasta-sacramento/999058
LOCATION:Residence Inn by Marriott Sacramento Cal Expo -- 550 Leisure Lane Sacramento, CA 95815
STATUS:CONFIRMED
SEQUENCE:0
TRANSP:OPAQUE
END:VEVENT
END:VCALENDAR
