BEGIN:VCALENDAR
VERSION:2.0
CALSCALE:GREGORIAN
BEGIN:VEVENT
DTSTAMP:20260420T074631
DTSTART:20260423T180000
DTEND:20260423T200000
SUMMARY:Spring Mixology Class
DESCRIPTION:Event Info: https://www.localwineevents.com/view/event/spring-mixology-class/999053
LOCATION:Bar Louie Granger -- 7320 Aspect Drive Granger, IN 46530
STATUS:CONFIRMED
SEQUENCE:0
TRANSP:OPAQUE
END:VEVENT
END:VCALENDAR
