BEGIN:VCALENDAR
VERSION:2.0
CALSCALE:GREGORIAN
BEGIN:VEVENT
DTSTAMP:20260421T062147
DTSTART:20260423T180000
DTEND:20260423T193000
SUMMARY:Master Blender\'s Tour  Tasting
DESCRIPTION:Event Info: https://www.localwineevents.com/view/event/master-blenders-tour-tasting/999022
LOCATION:Brother Justus Whiskey Company -- 3300 5th Street Northeast Minneapolis, MN 55418
STATUS:CONFIRMED
SEQUENCE:0
TRANSP:OPAQUE
END:VEVENT
END:VCALENDAR
