BEGIN:VCALENDAR
VERSION:2.0
CALSCALE:GREGORIAN
BEGIN:VEVENT
DTSTAMP:20260421T141546
DTSTART:20260423T183000
DTEND:20260423T200000
SUMMARY:Local Craft Distillery Tour And Tasting
DESCRIPTION:Event Info: https://www.localwineevents.com/view/event/local-craft-distillery-tour-and-tasting/999021
LOCATION:Echo Spirits Distilling Co. -- 985 West 6th Avenue Columbus, OH 43212
STATUS:CONFIRMED
SEQUENCE:0
TRANSP:OPAQUE
END:VEVENT
END:VCALENDAR
