BEGIN:VCALENDAR
VERSION:2.0
CALSCALE:GREGORIAN
BEGIN:VEVENT
DTSTAMP:20260424T062101
DTSTART:20260423T120000
DTEND:20260423T140000
SUMMARY:Hands On Cheesemaking  Butter Class
DESCRIPTION:Event Info: https://www.localwineevents.com/view/event/hands-on-cheesemaking-butter-class/999019
LOCATION:The Epicurean Connection, Sheana Davis  Ben Sessions -- 19670 8th Street East Sonoma, CA 95476
STATUS:CONFIRMED
SEQUENCE:0
TRANSP:OPAQUE
END:VEVENT
END:VCALENDAR
