BEGIN:VCALENDAR
VERSION:2.0
CALSCALE:GREGORIAN
BEGIN:VEVENT
DTSTAMP:20260421T162911
DTSTART:20260423T183000
DTEND:20260423T203000
SUMMARY:In-Person Class: Handmade Tortellini Pasta (Portland)
DESCRIPTION:Event Info: https://www.localwineevents.com/view/event/in-person-class-handmade-tortellini-pasta-portland/999016
LOCATION:ENSO Winery -- 1416 Southeast Stark Street Portland, OR 97214
STATUS:CONFIRMED
SEQUENCE:0
TRANSP:OPAQUE
END:VEVENT
END:VCALENDAR
