BEGIN:VCALENDAR
VERSION:2.0
CALSCALE:GREGORIAN
BEGIN:VEVENT
DTSTAMP:20260421T163838
DTSTART:20260423T183000
DTEND:20260423T210000
SUMMARY:A Taste Of New Orleans
DESCRIPTION:Event Info: https://www.localwineevents.com/view/event/a-taste-of-new-orleans/999014
LOCATION:Central Market Plano -- 320 Coit Road Plano, TX 75075
STATUS:CONFIRMED
SEQUENCE:0
TRANSP:OPAQUE
END:VEVENT
END:VCALENDAR
