BEGIN:VCALENDAR
VERSION:2.0
CALSCALE:GREGORIAN
BEGIN:VEVENT
DTSTAMP:20260420T073607
DTSTART:20260423T190000
DTEND:20260423T220000
SUMMARY:Joy\'s At Joe\'s Pop-Up Dinner
DESCRIPTION:Event Info: https://www.localwineevents.com/view/event/joys-at-joes-pop-up-dinner/999009
LOCATION:1201 Dunham St -- 1201 Dunham Street South Bend, IN 46619
STATUS:CONFIRMED
SEQUENCE:0
TRANSP:OPAQUE
END:VEVENT
END:VCALENDAR
