BEGIN:VCALENDAR
VERSION:2.0
CALSCALE:GREGORIAN
BEGIN:VEVENT
DTSTAMP:20260422T234014
DTSTART:20260423T190000
DTEND:20260423T210000
SUMMARY:Make Marinara Fettuccine With Chef Mark - Pasta Making Cooking Class In Orlando | Classpop!
DESCRIPTION:Event Info: https://www.localwineevents.com/view/event/make-marinara-fettuccine-with-chef-mark---pasta-making-cooking-class-in-orlando-classpop/999004
LOCATION:Zymarium Meadery -- 1121 North Mills Avenue Orlando, FL 32801
STATUS:CONFIRMED
SEQUENCE:0
TRANSP:OPAQUE
END:VEVENT
END:VCALENDAR
