BEGIN:VCALENDAR
VERSION:2.0
CALSCALE:GREGORIAN
BEGIN:VEVENT
DTSTAMP:20260422T233912
DTSTART:20260423T190000
DTEND:20260423T210000
SUMMARY:Sushi Making With Chef Ny At A Local Brewery - Sushi Making Cooking Class In Orlando | Classpop!
DESCRIPTION:Event Info: https://www.localwineevents.com/view/event/sushi-making-with-chef-ny-at-a-local-brewery---sushi-making-cooking-class-in-orlando-classpop/999000
LOCATION:Goblin Studios -- 805 West Central Boulevard Orlando, FL 32801
STATUS:CONFIRMED
SEQUENCE:0
TRANSP:OPAQUE
END:VEVENT
END:VCALENDAR
