BEGIN:VCALENDAR
VERSION:2.0
CALSCALE:GREGORIAN
BEGIN:VEVENT
DTSTAMP:20260422T173009
DTSTART:20260423T170000
DTEND:20260423T190000
SUMMARY:Paint  Sip @5050 Brewing Co.
DESCRIPTION:Event Info: https://www.localwineevents.com/view/event/paint-sip-5050-brewing-co/998998
LOCATION:FiftyFifty Brewing Co -- 10242 Church Street Truckee, CA 96161
STATUS:CONFIRMED
SEQUENCE:0
TRANSP:OPAQUE
END:VEVENT
END:VCALENDAR
