BEGIN:VCALENDAR
VERSION:2.0
CALSCALE:GREGORIAN
BEGIN:VEVENT
DTSTAMP:20260421T173934
DTSTART:20260423T180000
DTEND:20260423T200000
SUMMARY:Gin In Bloom
DESCRIPTION:Event Info: https://www.localwineevents.com/view/event/gin-in-bloom/998997
LOCATION:North Dakota Museum of Art -- 261 Centennial Drive Grand Forks, ND 58202
STATUS:CONFIRMED
SEQUENCE:0
TRANSP:OPAQUE
END:VEVENT
END:VCALENDAR
