BEGIN:VCALENDAR
VERSION:2.0
CALSCALE:GREGORIAN
BEGIN:VEVENT
DTSTAMP:20260419T122533
DTSTART:20260423T190000
DTEND:20260423T210000
SUMMARY:Bhakta After Dark: A Bourbon Supper Club
DESCRIPTION:Event Info: https://www.localwineevents.com/view/event/bhakta-after-dark-a-bourbon-supper-club/998982
LOCATION:3932 NE 5th Ave -- 3932 Northeast 5th Avenue Oakland Park, FL 33334
STATUS:CONFIRMED
SEQUENCE:0
TRANSP:OPAQUE
END:VEVENT
END:VCALENDAR
