BEGIN:VCALENDAR
VERSION:2.0
CALSCALE:GREGORIAN
BEGIN:VEVENT
DTSTAMP:20260423T105515
DTSTART:20260423T180000
DTEND:20260423T210000
SUMMARY:Dining In The Dark 2026
DESCRIPTION:Event Info: https://www.localwineevents.com/view/event/dining-in-the-dark-2026/998970
LOCATION:Mockingbird Kitchen, North College Avenue, Fayetteville, AR, USA -- 1466 North College Avenue Fayetteville, AR 72703
STATUS:CONFIRMED
SEQUENCE:0
TRANSP:OPAQUE
END:VEVENT
END:VCALENDAR
