BEGIN:VCALENDAR
VERSION:2.0
CALSCALE:GREGORIAN
BEGIN:VEVENT
DTSTAMP:20260419T122600
DTSTART:20260423T190000
DTEND:20260423T220000
SUMMARY:The Cocktail Club At The Wilder
DESCRIPTION:Event Info: https://www.localwineevents.com/view/event/the-cocktail-club-at-the-wilder/998958
LOCATION:The Wilder -- 701 East Broward Boulevard Fort Lauderdale, FL 33301
STATUS:CONFIRMED
SEQUENCE:0
TRANSP:OPAQUE
END:VEVENT
END:VCALENDAR
