BEGIN:VCALENDAR
VERSION:2.0
CALSCALE:GREGORIAN
BEGIN:VEVENT
DTSTAMP:20260420T114816
DTSTART:20260423T170000
DTEND:20260423T200000
SUMMARY:Vineyard To Shop - Winery TakeOver: Cass Winery
DESCRIPTION:Event Info: https://www.localwineevents.com/view/event/vineyard-to-shop---winery-takeover-cass-winery/998952
LOCATION:Stewart  Jasper -- 1700 McHenry Avenue Modesto, CA 95350
STATUS:CONFIRMED
SEQUENCE:0
TRANSP:OPAQUE
END:VEVENT
END:VCALENDAR
