BEGIN:VCALENDAR
VERSION:2.0
CALSCALE:GREGORIAN
BEGIN:VEVENT
DTSTAMP:20260421T062147
DTSTART:20260423T180000
DTEND:20260423T200000
SUMMARY:Prairie Pour Wine And Beer Sampler
DESCRIPTION:Event Info: https://www.localwineevents.com/view/event/prairie-pour-wine-and-beer-sampler/998943
LOCATION:Eden Prairie City Center -- 8080 Mitchell Road Eden Prairie, MN 55344
STATUS:CONFIRMED
SEQUENCE:0
TRANSP:OPAQUE
END:VEVENT
END:VCALENDAR
