BEGIN:VCALENDAR
VERSION:2.0
CALSCALE:GREGORIAN
BEGIN:VEVENT
DTSTAMP:20260420T104120
DTSTART:20260423T180000
DTEND:20260423T200000
SUMMARY:Maker\'s Mark Pairing Dinner At Lumber Baron Bar
DESCRIPTION:Event Info: https://www.localwineevents.com/view/event/makers-mark-pairing-dinner-at-lumber-baron-bar/998931
LOCATION:Lumber Baron Bar -- 187 Monroe Avenue Northwest Grand Rapids, MI 49503
STATUS:CONFIRMED
SEQUENCE:0
TRANSP:OPAQUE
END:VEVENT
END:VCALENDAR
