BEGIN:VCALENDAR
VERSION:2.0
CALSCALE:GREGORIAN
BEGIN:VEVENT
DTSTAMP:20260421T062126
DTSTART:20260423T180000
DTEND:20260423T200000
SUMMARY:Craft Authentic Pasta Alfredo At A North Loop Wine Bar - Pasta Making Cooking Class In Minneapolis | Classpop!
DESCRIPTION:Event Info: https://www.localwineevents.com/view/event/craft-authentic-pasta-alfredo-at-a-north-loop-wine-bar---pasta-making-cooking-class-in-minneapolis-classpop/998918
LOCATION:Troubadour Wine Bar -- 2827 Hennepin Ave Minneapolis, MN 55408
STATUS:CONFIRMED
SEQUENCE:0
TRANSP:OPAQUE
END:VEVENT
END:VCALENDAR
