BEGIN:VCALENDAR
VERSION:2.0
CALSCALE:GREGORIAN
BEGIN:VEVENT
DTSTAMP:20260419T122537
DTSTART:20260423T180000
DTEND:20260423T210000
SUMMARY:Adult Culinary Class - Bare Minimum Gourmet
DESCRIPTION:Event Info: https://www.localwineevents.com/view/event/adult-culinary-class---bare-minimum-gourmet/998917
LOCATION:The Hub at Space of Mind -- 101 NW 1st Ave Delray Beach, FL 33444
STATUS:CONFIRMED
SEQUENCE:0
TRANSP:OPAQUE
END:VEVENT
END:VCALENDAR
