BEGIN:VCALENDAR
VERSION:2.0
CALSCALE:GREGORIAN
BEGIN:VEVENT
DTSTAMP:20260420T175735
DTSTART:20261009T180000
DTEND:20261009T210000
SUMMARY:Celestial Sips: Stargazing In The Vineyard
DESCRIPTION:Event Info: https://www.localwineevents.com/view/event/celestial-sips-stargazing-in-the-vineyard/998865
LOCATION:Dry Creek Vineyard -- 3770 Lambert Bridge Rd Healdsburg, California 95448
STATUS:CONFIRMED
SEQUENCE:0
TRANSP:OPAQUE
END:VEVENT
END:VCALENDAR
