BEGIN:VCALENDAR
VERSION:2.0
CALSCALE:GREGORIAN
BEGIN:VEVENT
DTSTAMP:20260420T114913
DTSTART:20260530T170000
DTEND:20260530T180000
SUMMARY:WOO GIRL! Cellars Mokelumne Blue Moon Soundbath
DESCRIPTION:Event Info: https://www.localwineevents.com/view/event/woo-girl-cellars-mokelumne-blue-moon-soundbath/998849
LOCATION:WOO GIRL! Cellars -- 11070 E. Woodbridge Rd Acampo, CA 95220
STATUS:CONFIRMED
SEQUENCE:0
TRANSP:OPAQUE
END:VEVENT
END:VCALENDAR
