BEGIN:VCALENDAR
VERSION:2.0
CALSCALE:GREGORIAN
BEGIN:VEVENT
DTSTAMP:20260421T163950
DTSTART:20260422T100000
DTEND:20260423T160000
SUMMARY:Whole Hog Charcuterie Workshop
DESCRIPTION:Event Info: https://www.localwineevents.com/view/event/whole-hog-charcuterie-workshop/998689
LOCATION:Middleby Innovation Kitchens -- 2701 East State Highway 121 Business Lewisville, TX 75056
STATUS:CONFIRMED
SEQUENCE:0
TRANSP:OPAQUE
END:VEVENT
END:VCALENDAR
