BEGIN:VCALENDAR
VERSION:2.0
CALSCALE:GREGORIAN
BEGIN:VEVENT
DTSTAMP:20260421T062219
DTSTART:20260422T173000
DTEND:20260422T203000
SUMMARY:Sourdough 101 With Aki
DESCRIPTION:Event Info: https://www.localwineevents.com/view/event/sourdough-101-with-aki/998687
LOCATION:Aki\'s BreadHaus  WunderBar -- 1712 Marshall Street Northeast Minneapolis, MN 55413
STATUS:CONFIRMED
SEQUENCE:0
TRANSP:OPAQUE
END:VEVENT
END:VCALENDAR
