BEGIN:VCALENDAR
VERSION:2.0
CALSCALE:GREGORIAN
BEGIN:VEVENT
DTSTAMP:20260421T163839
DTSTART:20260422T180000
DTEND:20260422T200000
SUMMARY:Hands-On: Spaghetti Chitarra Al Caviar
DESCRIPTION:Event Info: https://www.localwineevents.com/view/event/hands-on-spaghetti-chitarra-al-caviar/998664
LOCATION:Eataly Dallas, La Scuola -- 8687 North Central Expressway Dallas, TX 75225
STATUS:CONFIRMED
SEQUENCE:0
TRANSP:OPAQUE
END:VEVENT
END:VCALENDAR
