BEGIN:VCALENDAR
VERSION:2.0
CALSCALE:GREGORIAN
BEGIN:VEVENT
DTSTAMP:20260421T163839
DTSTART:20260422T183000
DTEND:20260422T210000
SUMMARY:The Vietnamese Kitchen
DESCRIPTION:Event Info: https://www.localwineevents.com/view/event/the-vietnamese-kitchen/998655
LOCATION:Central Market Plano -- 320 Coit Road Plano, TX 75075
STATUS:CONFIRMED
SEQUENCE:0
TRANSP:OPAQUE
END:VEVENT
END:VCALENDAR
