BEGIN:VCALENDAR
VERSION:2.0
CALSCALE:GREGORIAN
BEGIN:VEVENT
DTSTAMP:20260424T062103
DTSTART:20260422T120000
DTEND:20260422T170000
SUMMARY:Le Cordon Bleu Culinary Showcase
DESCRIPTION:Event Info: https://www.localwineevents.com/view/event/le-cordon-bleu-culinary-showcase/998652
LOCATION:The Civic Kitchen -- 2961 Mission Street San Francisco, CA 94110
STATUS:CONFIRMED
SEQUENCE:0
TRANSP:OPAQUE
END:VEVENT
END:VCALENDAR
