BEGIN:VCALENDAR
VERSION:2.0
CALSCALE:GREGORIAN
BEGIN:VEVENT
DTSTAMP:20260421T164033
DTSTART:20260422T190000
DTEND:20260422T210000
SUMMARY:Shiner IPA, Moonshine, Vodka  Gin Dinner Experience - Barrel  Bones
DESCRIPTION:Event Info: https://www.localwineevents.com/view/event/shiner-ipa-moonshine-vodka-gin-dinner-experience---barrel-bones/998651
LOCATION:Barrel  Bones The Colony -- 2801 Plano Parkway The Colony, TX 75056
STATUS:CONFIRMED
SEQUENCE:0
TRANSP:OPAQUE
END:VEVENT
END:VCALENDAR
