BEGIN:VCALENDAR
VERSION:2.0
CALSCALE:GREGORIAN
BEGIN:VEVENT
DTSTAMP:20260422T211434
DTSTART:20260422T173000
DTEND:20260422T193000
SUMMARY:Whey  Whiskey At The Depot
DESCRIPTION:Event Info: https://www.localwineevents.com/view/event/whey-whiskey-at-the-depot/998631
LOCATION:The Depot Craft Brewery  Distillery -- 325 East 4th Street Reno, NV 89512
STATUS:CONFIRMED
SEQUENCE:0
TRANSP:OPAQUE
END:VEVENT
END:VCALENDAR
