BEGIN:VCALENDAR
VERSION:2.0
CALSCALE:GREGORIAN
BEGIN:VEVENT
DTSTAMP:20260422T161057
DTSTART:20260422T180000
DTEND:20260422T190000
SUMMARY:Terroir  Taste: An Earth Day Wine Experience With Bites!
DESCRIPTION:Event Info: https://www.localwineevents.com/view/event/terroir-taste-an-earth-day-wine-experience-with-bites/998575
LOCATION:Reunion Wine  Cocktail Bar -- 3308 Kedron Road Spring Hill, TN 37174
STATUS:CONFIRMED
SEQUENCE:0
TRANSP:OPAQUE
END:VEVENT
END:VCALENDAR
