BEGIN:VCALENDAR
VERSION:2.0
CALSCALE:GREGORIAN
BEGIN:VEVENT
DTSTAMP:20260421T064329
DTSTART:20260422T170000
DTEND:20260422T200000
SUMMARY:Wineluv Wednesdays: The April Edition Ft. Daou, Switchback Ridge  More!
DESCRIPTION:Event Info: https://www.localwineevents.com/view/event/wineluv-wednesdays-the-april-edition-ft-daou-switchback-ridge-more/998570
LOCATION:Amador Club -- 550 Montgomery Street San Francisco, CA 94111
STATUS:CONFIRMED
SEQUENCE:0
TRANSP:OPAQUE
END:VEVENT
END:VCALENDAR
