BEGIN:VCALENDAR
VERSION:2.0
CALSCALE:GREGORIAN
BEGIN:VEVENT
DTSTAMP:20260420T143806
DTSTART:20260422T180000
DTEND:20260422T203000
SUMMARY:Wine Glass Paint And Sip
DESCRIPTION:Event Info: https://www.localwineevents.com/view/event/wine-glass-paint-and-sip/998568
LOCATION:Barrel and Bliss Wine Bar -- 4359 Town Center Boulevard El Dorado Hills, CA 95672
STATUS:CONFIRMED
SEQUENCE:0
TRANSP:OPAQUE
END:VEVENT
END:VCALENDAR
