BEGIN:VCALENDAR
VERSION:2.0
CALSCALE:GREGORIAN
BEGIN:VEVENT
DTSTAMP:20260420T045403
DTSTART:20260422T180000
DTEND:20260422T200000
SUMMARY:Wines Of The World Wine Tasting - Pacific Northwest
DESCRIPTION:Event Info: https://www.localwineevents.com/view/event/wines-of-the-world-wine-tasting---pacific-northwest/998560
LOCATION:Water Street Social Club -- 550 Water Street Prairie du Sac, WI 53578
STATUS:CONFIRMED
SEQUENCE:0
TRANSP:OPAQUE
END:VEVENT
END:VCALENDAR
