BEGIN:VCALENDAR
VERSION:2.0
CALSCALE:GREGORIAN
BEGIN:VEVENT
DTSTAMP:20260420T104141
DTSTART:20260422T190000
DTEND:20260422T220000
SUMMARY:The Lark\'s April Wine Tasting Event
DESCRIPTION:Event Info: https://www.localwineevents.com/view/event/the-larks-april-wine-tasting-event/998559
LOCATION:The Lark - Wine Bar of Ada -- 7415 River Street Southeast Forest Hills, MI 49301
STATUS:CONFIRMED
SEQUENCE:0
TRANSP:OPAQUE
END:VEVENT
END:VCALENDAR
