BEGIN:VCALENDAR
VERSION:2.0
CALSCALE:GREGORIAN
BEGIN:VEVENT
DTSTAMP:20260421T184552
DTSTART:20260521T183000
DTEND:20260521T200000
SUMMARY:Garrison Brothers 101: An Introduction To Garrison Brothers With Founders Nancy  Dan Garrison
DESCRIPTION:Event Info: https://www.localwineevents.com/view/event/garrison-brothers-101-an-introduction-to-garrison-brothers-with-founders-nancy-dan-garrison/998551
LOCATION:Total Wine  More | Glade Parks Town Center -- 2501 Rio Grande Blvd. Euless, Texas 76039
STATUS:CONFIRMED
SEQUENCE:0
TRANSP:OPAQUE
END:VEVENT
END:VCALENDAR
