BEGIN:VCALENDAR
VERSION:2.0
CALSCALE:GREGORIAN
BEGIN:VEVENT
DTSTAMP:20260420T133906
DTSTART:20260516T140000
DTEND:20260516T170000
SUMMARY:Sip, Shop, Save
DESCRIPTION:Event Info: https://www.localwineevents.com/view/event/sip-shop-save/998545
LOCATION:Total Wine  More | Laguna Crossroads -- 7707 Laguna Blvd. Suite 140 Elk Grove, California 95758
STATUS:CONFIRMED
SEQUENCE:0
TRANSP:OPAQUE
END:VEVENT
END:VCALENDAR
