BEGIN:VCALENDAR
VERSION:2.0
CALSCALE:GREGORIAN
BEGIN:VEVENT
DTSTAMP:20260423T110348
DTSTART:20260425T174500
DTEND:20260425T204500
SUMMARY:The Delta Dirt Dinner
DESCRIPTION:Event Info: https://www.localwineevents.com/view/event/the-delta-dirt-dinner/998525
LOCATION:Mount Sequoyah Center -- 150 North Skyline Drive Fayetteville, AR 72701
STATUS:CONFIRMED
SEQUENCE:0
TRANSP:OPAQUE
END:VEVENT
END:VCALENDAR
