BEGIN:VCALENDAR
VERSION:2.0
CALSCALE:GREGORIAN
BEGIN:VEVENT
DTSTAMP:20260420T175541
DTSTART:20260516T103000
DTEND:20260516T143000
SUMMARY:Battle Of The Blends
DESCRIPTION:Event Info: https://www.localwineevents.com/view/event/battle-of-the-blends/998495
LOCATION:Alexander Valley Vineyards -- 8644 California 128 Healdsburg, CA 95448
STATUS:CONFIRMED
SEQUENCE:0
TRANSP:OPAQUE
END:VEVENT
END:VCALENDAR
