BEGIN:VCALENDAR
VERSION:2.0
CALSCALE:GREGORIAN
BEGIN:VEVENT
DTSTAMP:20260422T193635
DTSTART:20260801T173000
DTEND:20260801T203000
SUMMARY:47th Annual L\'Et Du Vin Dinner  Live Auction
DESCRIPTION:Event Info: https://www.localwineevents.com/view/event/47th-annual-let-du-vin-dinner-live-auction/998277
LOCATION:JW Marriott Nashville -- 201 8th Avenue South Nashville, TN 37203
STATUS:CONFIRMED
SEQUENCE:0
TRANSP:OPAQUE
END:VEVENT
END:VCALENDAR
