BEGIN:VCALENDAR
VERSION:2.0
CALSCALE:GREGORIAN
BEGIN:VEVENT
DTSTAMP:20260422T192811
DTSTART:20260730T180000
DTEND:20260730T210000
SUMMARY:L\'Et Du Vin Vintners\' Tasting
DESCRIPTION:Event Info: https://www.localwineevents.com/view/event/let-du-vin-vintners-tasting/998276
LOCATION:Hillwood Country Club -- 6201 Hickory Valley Road Nashville, TN 37205
STATUS:CONFIRMED
SEQUENCE:0
TRANSP:OPAQUE
END:VEVENT
END:VCALENDAR
