BEGIN:VCALENDAR
VERSION:2.0
CALSCALE:GREGORIAN
BEGIN:VEVENT
DTSTAMP:20260422T233846
DTSTART:20260402T190000
DTEND:20260423T210000
SUMMARY:Live Music Thursdays At VINIA Wine  Kitchen In Winter Park, April Agenda
DESCRIPTION:Event Info: https://www.localwineevents.com/view/event/live-music-thursdays-at-vinia-wine-kitchen-in-winter-park-april-agenda/998161
LOCATION:Vinia Wine Bar -- 444 W New England Ave, suite 119 Winter Park, FLORIDA 32789
STATUS:CONFIRMED
SEQUENCE:0
TRANSP:OPAQUE
END:VEVENT
END:VCALENDAR
