BEGIN:VCALENDAR
VERSION:2.0
CALSCALE:GREGORIAN
BEGIN:VEVENT
DTSTAMP:20260421T204846
DTSTART:20260429T140000
DTEND:20260429T170000
SUMMARY:Pantalones Tacos  Tequila Tasting Experience
DESCRIPTION:Event Info: https://www.localwineevents.com/view/event/pantalones-tacos-tequila-tasting-experience/997046
LOCATION:Total Wine  More -- 3810 Congress Ave. Dallas, Texas 75219
STATUS:CONFIRMED
SEQUENCE:0
TRANSP:OPAQUE
END:VEVENT
END:VCALENDAR
