BEGIN:VCALENDAR
VERSION:2.0
CALSCALE:GREGORIAN
BEGIN:VEVENT
DTSTAMP:20260421T183230
DTSTART:20260429T180000
DTEND:20260429T210000
SUMMARY:Pantalones Tacos  Tequila Tasting Experience
DESCRIPTION:Event Info: https://www.localwineevents.com/view/event/pantalones-tacos-tequila-tasting-experience/997043
LOCATION:Total Wine  More | Best Buy Plaza -- 9350 N. Central Expressway Dallas, Texas 75231
STATUS:CONFIRMED
SEQUENCE:0
TRANSP:OPAQUE
END:VEVENT
END:VCALENDAR
