BEGIN:VCALENDAR
VERSION:2.0
CALSCALE:GREGORIAN
BEGIN:VEVENT
DTSTAMP:20260421T183139
DTSTART:20260430T140000
DTEND:20260430T170000
SUMMARY:Pantalones Tacos  Tequila Tasting Experience
DESCRIPTION:Event Info: https://www.localwineevents.com/view/event/pantalones-tacos-tequila-tasting-experience/997033
LOCATION:Total Wine  More | Preston Village Shopping Center -- 8700 Preston Rd Ste113 Plano, Texas 75024
STATUS:CONFIRMED
SEQUENCE:0
TRANSP:OPAQUE
END:VEVENT
END:VCALENDAR
