BEGIN:VCALENDAR
VERSION:2.0
CALSCALE:GREGORIAN
BEGIN:VEVENT
DTSTAMP:20260422T163931
DTSTART:20260507T180000
DTEND:20260507T193000
SUMMARY:The King Of GrapesDiscover Cabernet Sauvignon
DESCRIPTION:Event Info: https://www.localwineevents.com/view/event/the-king-of-grapesdiscover-cabernet-sauvignon/997029
LOCATION:Total Wine  More | North Hills -- 4421 Six Forks Road Suite 111 Raleigh, North Carolina 27609
STATUS:CONFIRMED
SEQUENCE:0
TRANSP:OPAQUE
END:VEVENT
END:VCALENDAR
