BEGIN:VCALENDAR
VERSION:2.0
CALSCALE:GREGORIAN
BEGIN:VEVENT
DTSTAMP:20260420T133914
DTSTART:20260725T170000
DTEND:20260725T183000
SUMMARY:Exploremos America Del Sur
DESCRIPTION:Event Info: https://www.localwineevents.com/view/event/exploremos-america-del-sur/996923
LOCATION:Total Wine  More | Laguna Crossroads -- 7707 Laguna Blvd. Suite 140 Elk Grove, California 95758
STATUS:CONFIRMED
SEQUENCE:0
TRANSP:OPAQUE
END:VEVENT
END:VCALENDAR
