BEGIN:VCALENDAR
VERSION:2.0
CALSCALE:GREGORIAN
BEGIN:VEVENT
DTSTAMP:20260423T013359
DTSTART:20260725T170000
DTEND:20260725T183000
SUMMARY:Rum For All And All For Rum!
DESCRIPTION:Event Info: https://www.localwineevents.com/view/event/rum-for-all-and-all-for-rum/996888
LOCATION:Total Wine  More | Lady Lake Commons -- 641 N. Highway 27-441 Lady Lake, Florida 32159
STATUS:CONFIRMED
SEQUENCE:0
TRANSP:OPAQUE
END:VEVENT
END:VCALENDAR
